BEGIN:VCALENDAR
VERSION:2.0
CALSCALE:GREGORIAN
PRODID:adamgibbons/ics
METHOD:PUBLISH
X-PUBLISHED-TTL:PT1H
BEGIN:VEVENT
UID:76@bootblack.events
SUMMARY:Bootblacking @ Fetish Social Strasbourg
DTSTAMP:20260424T181426Z
DTSTART:20250524T193000Z
DESCRIPTION:More info: https://fss-fetish.com/evenements/fetish-social-mai-
	2025/\n[https://fss-fetish.com/evenements/fetish-social-mai-2025/]
URL:https://bootblack.events/event/bootblacking-fetish-social-strasbourg-1
GEO:48.5640305;7.7558836
LOCATION:Café Grognon - 2 Av. Léon Dacheux\, 67100 Strasbourg
STATUS:CONFIRMED
CATEGORIES:Bootblack Stand,France,Strasbourg
X-ALT-DESC;FMTTYPE=text/html:<p>More info: <a target="_blank" href="https:/
	/fss-fetish.com/evenements/fetish-social-mai-2025/">https://fss-fetish.com
	/evenements/fetish-social-mai-2025/</a></p>
END:VEVENT
BEGIN:VEVENT
UID:71@bootblack.events
SUMMARY:Bootblacking @ Fetish Social Strasbourg
DTSTAMP:20260424T181426Z
DTSTART:20250322T203000Z
DESCRIPTION:More info: https://fss-fetish.com/evenements/fetish-social-mars
	-2025/\n[https://fss-fetish.com/evenements/fetish-social-mars-2025/]
URL:https://bootblack.events/event/bootblacking-fetish-social-strasbourg
GEO:48.5640305;7.7558836
LOCATION:Café Grognon - 2 Av. Léon Dacheux\, 67100 Strasbourg
STATUS:CONFIRMED
CATEGORIES:Bootblack Stand,France,Strasbourg
X-ALT-DESC;FMTTYPE=text/html:<p>More info: <a target="_blank" href="https:/
	/fss-fetish.com/evenements/fetish-social-mars-2025/">https://fss-fetish.co
	m/evenements/fetish-social-mars-2025/</a></p>
END:VEVENT
END:VCALENDAR
